BEGIN:VCALENDAR
VERSION:2.0
PRODID:-//Aufbruch - ECPv6.15.20//NONSGML v1.0//EN
CALSCALE:GREGORIAN
METHOD:PUBLISH
X-WR-CALNAME:Aufbruch
X-ORIGINAL-URL:https://aufbruch-selbsthilfe-sha.de
X-WR-CALDESC:Veranstaltungen für Aufbruch
REFRESH-INTERVAL;VALUE=DURATION:PT1H
X-Robots-Tag:noindex
X-PUBLISHED-TTL:PT1H
BEGIN:VTIMEZONE
TZID:UTC
BEGIN:STANDARD
TZOFFSETFROM:+0000
TZOFFSETTO:+0000
TZNAME:UTC
DTSTART:20250101T000000
END:STANDARD
END:VTIMEZONE
BEGIN:VEVENT
DTSTART;TZID=UTC:20260413T190000
DTEND;TZID=UTC:20260413T203000
DTSTAMP:20260419T154104
CREATED:20240501T142511Z
LAST-MODIFIED:20260124T153332Z
UID:315-1776106800-1776112200@aufbruch-selbsthilfe-sha.de
SUMMARY:Gruppentreffen
DESCRIPTION:von 19:00 bis circa 20:30 Uhr
URL:https://aufbruch-selbsthilfe-sha.de/event/gruppentreffen-14/
END:VEVENT
END:VCALENDAR