BEGIN:VCALENDAR
VERSION:2.0
PRODID:-//Aufbruch - ECPv6.15.20//NONSGML v1.0//EN
CALSCALE:GREGORIAN
METHOD:PUBLISH
X-ORIGINAL-URL:https://aufbruch-selbsthilfe-sha.de
X-WR-CALDESC:Veranstaltungen für Aufbruch
REFRESH-INTERVAL;VALUE=DURATION:PT1H
X-Robots-Tag:noindex
X-PUBLISHED-TTL:PT1H
BEGIN:VTIMEZONE
TZID:UTC
BEGIN:STANDARD
TZOFFSETFROM:+0000
TZOFFSETTO:+0000
TZNAME:UTC
DTSTART:20250101T000000
END:STANDARD
END:VTIMEZONE
BEGIN:VEVENT
DTSTART;TZID=UTC:20261102T190000
DTEND;TZID=UTC:20261102T203000
DTSTAMP:20260420T014711
CREATED:20241230T194634Z
LAST-MODIFIED:20260124T154747Z
UID:688-1793646000-1793651400@aufbruch-selbsthilfe-sha.de
SUMMARY:Gruppentreffen
DESCRIPTION:von 19:00 bis circa 20:30 Uhr
URL:https://aufbruch-selbsthilfe-sha.de/event/gruppentreffen-7-2-2/
END:VEVENT
END:VCALENDAR