BEGIN:VCALENDAR
VERSION:2.0
PRODID:-//Aufbruch - ECPv6.15.20//NONSGML v1.0//EN
CALSCALE:GREGORIAN
METHOD:PUBLISH
X-WR-CALNAME:Aufbruch
X-ORIGINAL-URL:https://aufbruch-selbsthilfe-sha.de
X-WR-CALDESC:Veranstaltungen für Aufbruch
REFRESH-INTERVAL;VALUE=DURATION:PT1H
X-Robots-Tag:noindex
X-PUBLISHED-TTL:PT1H
BEGIN:VTIMEZONE
TZID:UTC
BEGIN:STANDARD
TZOFFSETFROM:+0000
TZOFFSETTO:+0000
TZNAME:UTC
DTSTART:20250101T000000
END:STANDARD
END:VTIMEZONE
BEGIN:VEVENT
DTSTART;TZID=UTC:20260202T190000
DTEND;TZID=UTC:20260202T203000
DTSTAMP:20260419T170600
CREATED:20240501T084530Z
LAST-MODIFIED:20260130T115803Z
UID:204-1770058800-1770064200@aufbruch-selbsthilfe-sha.de
SUMMARY:Gruppentreffen
DESCRIPTION:von 19:00 bis circa 20:30 Uhr
URL:https://aufbruch-selbsthilfe-sha.de/event/gruppentreffen/
END:VEVENT
BEGIN:VEVENT
DTSTART;TZID=UTC:20260216T190000
DTEND;TZID=UTC:20260216T203000
DTSTAMP:20260419T170600
CREATED:20241230T195153Z
LAST-MODIFIED:20260130T115907Z
UID:692-1771268400-1771273800@aufbruch-selbsthilfe-sha.de
SUMMARY:Gruppentreffen
DESCRIPTION:von 19:00 bis circa 20:30 Uhr
URL:https://aufbruch-selbsthilfe-sha.de/event/gruppentreffen-7-2-6/
END:VEVENT
END:VCALENDAR