BEGIN:VCALENDAR
VERSION:2.0
PRODID:-//Aufbruch - ECPv6.15.20//NONSGML v1.0//EN
CALSCALE:GREGORIAN
METHOD:PUBLISH
X-WR-CALNAME:Aufbruch
X-ORIGINAL-URL:https://aufbruch-selbsthilfe-sha.de
X-WR-CALDESC:Veranstaltungen für Aufbruch
REFRESH-INTERVAL;VALUE=DURATION:PT1H
X-Robots-Tag:noindex
X-PUBLISHED-TTL:PT1H
BEGIN:VTIMEZONE
TZID:UTC
BEGIN:STANDARD
TZOFFSETFROM:+0000
TZOFFSETTO:+0000
TZNAME:UTC
DTSTART:20250101T000000
END:STANDARD
END:VTIMEZONE
BEGIN:VEVENT
DTSTART;TZID=UTC:20260706T190000
DTEND;TZID=UTC:20260706T203000
DTSTAMP:20260419T181629
CREATED:20240501T141642Z
LAST-MODIFIED:20260124T154535Z
UID:302-1783364400-1783369800@aufbruch-selbsthilfe-sha.de
SUMMARY:Gruppentreffen
DESCRIPTION:von 19:00 bis circa 20:30 Uhr
URL:https://aufbruch-selbsthilfe-sha.de/event/gruppentreffen-5/
END:VEVENT
BEGIN:VEVENT
DTSTART;TZID=UTC:20260720T190000
DTEND;TZID=UTC:20260720T203000
DTSTAMP:20260419T181629
CREATED:20240501T141532Z
LAST-MODIFIED:20260124T154552Z
UID:300-1784574000-1784579400@aufbruch-selbsthilfe-sha.de
SUMMARY:Gruppentreffen
DESCRIPTION:von 19:00 bis circa 20:30 Uhr
URL:https://aufbruch-selbsthilfe-sha.de/event/gruppentreffen-4/
END:VEVENT
END:VCALENDAR