BEGIN:VCALENDAR
VERSION:2.0
PRODID:-//Aufbruch - ECPv6.15.20//NONSGML v1.0//EN
CALSCALE:GREGORIAN
METHOD:PUBLISH
X-WR-CALNAME:Aufbruch
X-ORIGINAL-URL:https://aufbruch-selbsthilfe-sha.de
X-WR-CALDESC:Veranstaltungen für Aufbruch
REFRESH-INTERVAL;VALUE=DURATION:PT1H
X-Robots-Tag:noindex
X-PUBLISHED-TTL:PT1H
BEGIN:VTIMEZONE
TZID:UTC
BEGIN:STANDARD
TZOFFSETFROM:+0000
TZOFFSETTO:+0000
TZNAME:UTC
DTSTART:20250101T000000
END:STANDARD
END:VTIMEZONE
BEGIN:VEVENT
DTSTART;TZID=UTC:20260907T040000
DTEND;TZID=UTC:20260907T053000
DTSTAMP:20260419T195506
CREATED:20240501T141209Z
LAST-MODIFIED:20260124T154614Z
UID:296-1788753600-1788759000@aufbruch-selbsthilfe-sha.de
SUMMARY:Gruppentreffen
DESCRIPTION:von 19:00 bis circa 20:30 Uhr
URL:https://aufbruch-selbsthilfe-sha.de/event/gruppentreffen-3/
END:VEVENT
BEGIN:VEVENT
DTSTART;TZID=UTC:20260921T160000
DTEND;TZID=UTC:20260921T173000
DTSTAMP:20260419T195506
CREATED:20240501T085626Z
LAST-MODIFIED:20260124T154637Z
UID:209-1790006400-1790011800@aufbruch-selbsthilfe-sha.de
SUMMARY:Gruppentreffen
DESCRIPTION:von 19:00 bis circa 20:30 Uhr
URL:https://aufbruch-selbsthilfe-sha.de/event/gruppentreffen-2/
END:VEVENT
END:VCALENDAR